BEGIN:VCALENDAR
VERSION:2.0
PRODID:-//Isabella Maldonado - ECPv6.15.20//NONSGML v1.0//EN
CALSCALE:GREGORIAN
METHOD:PUBLISH
X-ORIGINAL-URL:https://isabellamaldonado.com
X-WR-CALDESC:Events for Isabella Maldonado
REFRESH-INTERVAL;VALUE=DURATION:PT1H
X-Robots-Tag:noindex
X-PUBLISHED-TTL:PT1H
BEGIN:VTIMEZONE
TZID:America/Los_Angeles
BEGIN:DAYLIGHT
TZOFFSETFROM:-0800
TZOFFSETTO:-0700
TZNAME:PDT
DTSTART:20210314T100000
END:DAYLIGHT
BEGIN:STANDARD
TZOFFSETFROM:-0700
TZOFFSETTO:-0800
TZNAME:PST
DTSTART:20211107T090000
END:STANDARD
BEGIN:DAYLIGHT
TZOFFSETFROM:-0800
TZOFFSETTO:-0700
TZNAME:PDT
DTSTART:20220313T100000
END:DAYLIGHT
BEGIN:STANDARD
TZOFFSETFROM:-0700
TZOFFSETTO:-0800
TZNAME:PST
DTSTART:20221106T090000
END:STANDARD
BEGIN:DAYLIGHT
TZOFFSETFROM:-0800
TZOFFSETTO:-0700
TZNAME:PDT
DTSTART:20230312T100000
END:DAYLIGHT
BEGIN:STANDARD
TZOFFSETFROM:-0700
TZOFFSETTO:-0800
TZNAME:PST
DTSTART:20231105T090000
END:STANDARD
BEGIN:DAYLIGHT
TZOFFSETFROM:-0800
TZOFFSETTO:-0700
TZNAME:PDT
DTSTART:20240310T100000
END:DAYLIGHT
BEGIN:STANDARD
TZOFFSETFROM:-0700
TZOFFSETTO:-0800
TZNAME:PST
DTSTART:20241103T090000
END:STANDARD
BEGIN:DAYLIGHT
TZOFFSETFROM:-0800
TZOFFSETTO:-0700
TZNAME:PDT
DTSTART:20250309T100000
END:DAYLIGHT
BEGIN:STANDARD
TZOFFSETFROM:-0700
TZOFFSETTO:-0800
TZNAME:PST
DTSTART:20251102T090000
END:STANDARD
END:VTIMEZONE
BEGIN:VTIMEZONE
TZID:America/New_York
BEGIN:DAYLIGHT
TZOFFSETFROM:-0500
TZOFFSETTO:-0400
TZNAME:EDT
DTSTART:20220313T070000
END:DAYLIGHT
BEGIN:STANDARD
TZOFFSETFROM:-0400
TZOFFSETTO:-0500
TZNAME:EST
DTSTART:20221106T060000
END:STANDARD
BEGIN:DAYLIGHT
TZOFFSETFROM:-0500
TZOFFSETTO:-0400
TZNAME:EDT
DTSTART:20230312T070000
END:DAYLIGHT
BEGIN:STANDARD
TZOFFSETFROM:-0400
TZOFFSETTO:-0500
TZNAME:EST
DTSTART:20231105T060000
END:STANDARD
BEGIN:DAYLIGHT
TZOFFSETFROM:-0500
TZOFFSETTO:-0400
TZNAME:EDT
DTSTART:20240310T070000
END:DAYLIGHT
BEGIN:STANDARD
TZOFFSETFROM:-0400
TZOFFSETTO:-0500
TZNAME:EST
DTSTART:20241103T060000
END:STANDARD
BEGIN:DAYLIGHT
TZOFFSETFROM:-0500
TZOFFSETTO:-0400
TZNAME:EDT
DTSTART:20250309T070000
END:DAYLIGHT
BEGIN:STANDARD
TZOFFSETFROM:-0400
TZOFFSETTO:-0500
TZNAME:EST
DTSTART:20251102T060000
END:STANDARD
END:VTIMEZONE
BEGIN:VTIMEZONE
TZID:America/Phoenix
BEGIN:STANDARD
TZOFFSETFROM:-0700
TZOFFSETTO:-0700
TZNAME:MST
DTSTART:20210101T000000
END:STANDARD
END:VTIMEZONE
BEGIN:VTIMEZONE
TZID:America/Denver
BEGIN:DAYLIGHT
TZOFFSETFROM:-0700
TZOFFSETTO:-0600
TZNAME:MDT
DTSTART:20220313T090000
END:DAYLIGHT
BEGIN:STANDARD
TZOFFSETFROM:-0600
TZOFFSETTO:-0700
TZNAME:MST
DTSTART:20221106T080000
END:STANDARD
BEGIN:DAYLIGHT
TZOFFSETFROM:-0700
TZOFFSETTO:-0600
TZNAME:MDT
DTSTART:20230312T090000
END:DAYLIGHT
BEGIN:STANDARD
TZOFFSETFROM:-0600
TZOFFSETTO:-0700
TZNAME:MST
DTSTART:20231105T080000
END:STANDARD
BEGIN:DAYLIGHT
TZOFFSETFROM:-0700
TZOFFSETTO:-0600
TZNAME:MDT
DTSTART:20240310T090000
END:DAYLIGHT
BEGIN:STANDARD
TZOFFSETFROM:-0600
TZOFFSETTO:-0700
TZNAME:MST
DTSTART:20241103T080000
END:STANDARD
END:VTIMEZONE
BEGIN:VEVENT
DTSTART;TZID=America/Los_Angeles:20240821T110000
DTEND;TZID=America/Los_Angeles:20240821T120000
DTSTAMP:20260424T094525
CREATED:20240607T192914Z
LAST-MODIFIED:20240607T192914Z
UID:4300-1724238000-1724241600@isabellamaldonado.com
SUMMARY:Author2Author Podcast
DESCRIPTION:
URL:https://isabellamaldonado.com/event/author2author-podcast/
ATTACH;FMTTYPE=image/jpeg:https://isabellamaldonado.com/wp-content/uploads/2024/06/beck-headshot.jpg
END:VEVENT
BEGIN:VEVENT
DTSTART;TZID=America/New_York:20240819T200000
DTEND;TZID=America/New_York:20240819T210000
DTSTAMP:20260424T094525
CREATED:20240524T190138Z
LAST-MODIFIED:20240906T173029Z
UID:4270-1724097600-1724101200@isabellamaldonado.com
SUMMARY:Mystery and Thriller Mavens
DESCRIPTION:With Sara DiVello
URL:https://isabellamaldonado.com/event/mystery-and-thriller-mavens-3/
ATTACH;FMTTYPE=image/png:https://isabellamaldonado.com/wp-content/uploads/2024/05/Mystery-and-Thriller-Mavens.png
END:VEVENT
BEGIN:VEVENT
DTSTART;TZID=America/New_York:20240806T140000
DTEND;TZID=America/New_York:20240806T150000
DTSTAMP:20260424T094525
CREATED:20240524T185739Z
LAST-MODIFIED:20240524T190539Z
UID:4266-1722952800-1722956400@isabellamaldonado.com
SUMMARY:BOOKSTORM Podcast
DESCRIPTION:
URL:https://isabellamaldonado.com/event/bookstorm-podcast/
ATTACH;FMTTYPE=image/jpeg:https://isabellamaldonado.com/wp-content/uploads/2024/05/Bookstorm.jpg
END:VEVENT
BEGIN:VEVENT
DTSTART;TZID=America/New_York:20240715T110000
DTEND;TZID=America/New_York:20240715T120000
DTSTAMP:20260424T094525
CREATED:20240607T192546Z
LAST-MODIFIED:20240607T192546Z
UID:4297-1721041200-1721044800@isabellamaldonado.com
SUMMARY:BookWild Podcast
DESCRIPTION:
URL:https://isabellamaldonado.com/event/bookwild-podcast/
ATTACH;FMTTYPE=image/jpeg:https://isabellamaldonado.com/wp-content/uploads/2024/06/BookWild.jpg
END:VEVENT
BEGIN:VEVENT
DTSTART;TZID=America/New_York:20240531T080000
DTEND;TZID=America/New_York:20240531T090000
DTSTAMP:20260424T094525
CREATED:20240329T173133Z
LAST-MODIFIED:20240329T173409Z
UID:4215-1717142400-1717146000@isabellamaldonado.com
SUMMARY:ThrillerFest Panel: Headbutt\, Dropkick\, or Chokehold? Writing Realistic Fight Scenes
DESCRIPTION:Join Isabella with Ruth Church\, Chris Grall\, T.R. Hendricks\, Stephen Mann\, and Gregg Podolski for the panel HEADBUTT\, DROPKICK OR CHOKEHOLD? Writing Realistic Fight Scenes at ThrillerFest!
URL:https://isabellamaldonado.com/event/thrillerfest-panel-headbutt-dropkick-or-chokehold-writing-realistic-fight-scenes/
LOCATION:Sheraton Times Square\, 811 7th Avenue\, New York\, NY\, 10019\, United States
ATTACH;FMTTYPE=image/png:https://isabellamaldonado.com/wp-content/uploads/2024/03/Thrillerfest-2024.png
END:VEVENT
BEGIN:VEVENT
DTSTART;TZID=America/New_York:20240529T160000
DTEND;TZID=America/New_York:20240529T170000
DTSTAMP:20260424T094525
CREATED:20240306T185637Z
LAST-MODIFIED:20240329T173302Z
UID:4184-1716998400-1717002000@isabellamaldonado.com
SUMMARY:CraftFest Class: Collaboration
DESCRIPTION:Isabella and Jeffery Deaver will teach a class entitled COLLABORATION at CraftFest
URL:https://isabellamaldonado.com/event/craftfest-class-collaboration/
LOCATION:Sheraton Times Square\, 811 7th Avenue\, New York\, NY\, 10019\, United States
ATTACH;FMTTYPE=image/png:https://isabellamaldonado.com/wp-content/uploads/2024/03/Thrillerfest-2024.png
END:VEVENT
BEGIN:VEVENT
DTSTART;TZID=America/New_York:20240528T080000
DTEND;TZID=America/New_York:20240528T170000
DTSTAMP:20260424T094525
CREATED:20240306T185344Z
LAST-MODIFIED:20240329T173332Z
UID:4180-1716883200-1716915600@isabellamaldonado.com
SUMMARY:Thrillerfest Master Class
DESCRIPTION:Take your writing and storytelling to the next level at Master Class 2024. \nJoin our stellar group of teachers on Tuesday\, May 28\, 2024 at ITW’s Master Class\, a hands-on workshop for writers of all levels. Under the tutelage of one of our bestselling instructors\, you will submit the first 10-pages of your manuscript and receive helpful feedback on how to take your writing to the next level. Master Class offers an intensive and inspiring experience. \nEach class is limited to 10 students. \nOn Tuesday\, May 28\, 2024\, registration opens at 7:00 AM. The class runs from 8:00 AM to 5:00 PM\, with a lunch break (on your own) from 12:00 PM to 1:00 PM. The classrooms are located on the 5th floor of the Times Square Sheraton.
URL:https://isabellamaldonado.com/event/thrillerfest-master-class/
LOCATION:Sheraton Times Square\, 811 7th Avenue\, New York\, NY\, 10019\, United States
ATTACH;FMTTYPE=image/png:https://isabellamaldonado.com/wp-content/uploads/2024/03/Thrillerfest-2024.png
END:VEVENT
BEGIN:VEVENT
DTSTART;TZID=America/New_York:20240418T140000
DTEND;TZID=America/New_York:20240418T150000
DTSTAMP:20260424T094525
CREATED:20240404T182659Z
LAST-MODIFIED:20240404T182659Z
UID:4223-1713448800-1713452400@isabellamaldonado.com
SUMMARY:ITW Presents: Breakout Series for Members
DESCRIPTION:Join Isabella and Jeffery Deaver for this new online program\, designed to help writers take their careers to the next level. \nThis program is exclusive to ITW members. Click here to join ITW.
URL:https://isabellamaldonado.com/event/itw-presents-breakout-series-for-members/
LOCATION:Online
ATTACH;FMTTYPE=image/png:https://isabellamaldonado.com/wp-content/uploads/2024/04/image0.png
END:VEVENT
BEGIN:VEVENT
DTSTART;VALUE=DATE:20240418
DTEND;VALUE=DATE:20240422
DTSTAMP:20260424T094525
CREATED:20240305T214238Z
LAST-MODIFIED:20240305T214238Z
UID:4171-1713398400-1713743999@isabellamaldonado.com
SUMMARY:Readers Take Denver
DESCRIPTION:
URL:https://isabellamaldonado.com/event/readers-take-denver-2/
LOCATION:Gaylord Rockies\, 6700 N Gaylord Rockies Blvd\, Aurora\, CO\, 80019\, United States
ATTACH;FMTTYPE=image/png:https://isabellamaldonado.com/wp-content/uploads/2024/03/Readers-Take-Denver.png
END:VEVENT
BEGIN:VEVENT
DTSTART;TZID=America/New_York:20240326T200000
DTEND;TZID=America/New_York:20240326T210000
DTSTAMP:20260424T094525
CREATED:20240320T200233Z
LAST-MODIFIED:20240320T200337Z
UID:4197-1711483200-1711486800@isabellamaldonado.com
SUMMARY:Instagram Live Interview
DESCRIPTION:Tune in to Readers Take Denver’s Instagram Tuesday\, March 26 at 5pm pst/8pm est for the next Instagram Live Author Interview with the one and only Isabella Maldonado. We will be celebrating her New Book Birthday\, talking about all things bookish and more.
URL:https://isabellamaldonado.com/event/instagram-live-interview/
LOCATION:Readers Take Denver Instagram
ATTACH;FMTTYPE=image/png:https://isabellamaldonado.com/wp-content/uploads/2024/03/IG-Live.png
END:VEVENT
BEGIN:VEVENT
DTSTART;VALUE=DATE:20240326
DTEND;VALUE=DATE:20240327
DTSTAMP:20260424T094525
CREATED:20240306T184902Z
LAST-MODIFIED:20240306T184902Z
UID:4178-1711411200-1711497599@isabellamaldonado.com
SUMMARY:A FORGOTTEN KILL Release Day
DESCRIPTION:
URL:https://isabellamaldonado.com/event/a-forgotten-kill-release-day/
ATTACH;FMTTYPE=image/jpeg:https://isabellamaldonado.com/wp-content/uploads/2023/10/Maldonado-AForgottenKill-32748-FT-v5.jpg
END:VEVENT
BEGIN:VEVENT
DTSTART;TZID=America/New_York:20240318T190000
DTEND;TZID=America/New_York:20240318T200000
DTSTAMP:20260424T094525
CREATED:20240306T184735Z
LAST-MODIFIED:20240306T184735Z
UID:4175-1710788400-1710792000@isabellamaldonado.com
SUMMARY:Rogue Women Writers Rogue Reads
DESCRIPTION:Join us for an edge-of-your-seat evening of book talk with GREGG HURWITZ\, NICK PETRIE\, AMANDA FLOWER and our own Rogue ISABELLA MALDONADO! Lisa Black will Emcee! All are live\, all talking about their new books and taking your questions. \nEnjoy a fabulous night of new releases by four amazing thriller authors! \n\n\n\n\nCLICK HERE TO REGISTER \n\n\n\n\nIt’s all FREE\, and you could win one of the authors’ brand new novels. (U.S. addresses only.) Wishing you the best of luck! \nLONE WOLF: AN ORPHAN X NOVEL by Gregg Hurwitz\nTHE PRICE YOU PAY by Nick Petrie\nTO SLIP THE BONDS OF EARTH by Amanda Flower\nA FORGOTTEN KILL by Isabella Maldonado \nBe among the first 100 in the Zoom room\, and you’ll have the opportunity to personally debrief the authors. Or catch them on Facebook Live and interrogate via comments. Come and enjoy talking with these amazing authors! \nAs an added treat\, sample each author’s favorite snack and drink\, with the notes and recipes. Feel adventurous and culinary? Check out the offerings below. Dining and drinking will commence at the start of the show.
URL:https://isabellamaldonado.com/event/rogue-women-writers-rogue-reads/
LOCATION:Rogue Women Writers
ATTACH;FMTTYPE=image/png:https://isabellamaldonado.com/wp-content/uploads/2024/03/Rogue-Women-Writers.png
END:VEVENT
BEGIN:VEVENT
DTSTART;TZID=America/Phoenix:20240312T190000
DTEND;TZID=America/Phoenix:20240312T200000
DTSTAMP:20260424T094525
CREATED:20240305T205642Z
LAST-MODIFIED:20240305T205642Z
UID:4140-1710270000-1710273600@isabellamaldonado.com
SUMMARY:Launch of A FORGOTTEN KILL with Lisa Gardner
DESCRIPTION:
URL:https://isabellamaldonado.com/event/launch-of-a-forgotten-kill-with-lisa-gardner/
LOCATION:Poisoned Pen\, 4014 N Goldwater Blvd\, Scottsdale\, AZ\, 85251\, United States
ATTACH;FMTTYPE=image/png:https://isabellamaldonado.com/wp-content/uploads/2023/04/Poisoned-Pen.png
END:VEVENT
BEGIN:VEVENT
DTSTART;TZID=America/Phoenix:20230824T190000
DTEND;TZID=America/Phoenix:20230824T200000
DTSTAMP:20260424T094525
CREATED:20230717T195452Z
LAST-MODIFIED:20230717T195452Z
UID:4046-1692903600-1692907200@isabellamaldonado.com
SUMMARY:In Conversation with Karin Slaughter
DESCRIPTION:IN-PERSON AND VIRTUAL EVENT \nJoin Isabella in conversation with Karin Slaughter at Poisoned Pen Bookstore or online! \nClick here to watch on YouTube \nClick here to watch on Facebook
URL:https://isabellamaldonado.com/event/in-conversation-with-karin-slaughter/
LOCATION:Poisoned Pen\, 4014 N Goldwater Blvd\, Scottsdale\, AZ\, 85251\, United States
ATTACH;FMTTYPE=image/png:https://isabellamaldonado.com/wp-content/uploads/2023/04/Poisoned-Pen.png
END:VEVENT
BEGIN:VEVENT
DTSTART;TZID=America/New_York:20230619T190000
DTEND;TZID=America/New_York:20230619T200000
DTSTAMP:20260424T094525
CREATED:20230412T213732Z
LAST-MODIFIED:20230524T162223Z
UID:3980-1687201200-1687204800@isabellamaldonado.com
SUMMARY:Rogue Women Writers Rogue Reads
DESCRIPTION:VIRTUAL/ONLINE EVENT \nAttend for a chance to win all the panelists’ books!
URL:https://isabellamaldonado.com/event/3980/
LOCATION:Rogue Women Writers
ATTACH;FMTTYPE=image/jpeg:https://isabellamaldonado.com/wp-content/uploads/2021/08/Rogue-Women-Writers-300x25-1.jpg
END:VEVENT
BEGIN:VEVENT
DTSTART;TZID=America/Phoenix:20230611T160000
DTEND;TZID=America/Phoenix:20230611T170000
DTSTAMP:20260424T094525
CREATED:20230530T200539Z
LAST-MODIFIED:20230530T200539Z
UID:3996-1686499200-1686502800@isabellamaldonado.com
SUMMARY:Cops and Writers Podcast
DESCRIPTION:Isabella will be a guest on the Cops and Writers Podcast. Listen here: \nhttps://www.buzzsprout.com/1595839/12921414
URL:https://isabellamaldonado.com/event/cops-and-writers-podcast/
ATTACH;FMTTYPE=image/jpeg:https://isabellamaldonado.com/wp-content/uploads/2023/05/CWPodcast.jpeg
END:VEVENT
BEGIN:VEVENT
DTSTART;TZID=America/Phoenix:20230608T190000
DTEND;TZID=America/Phoenix:20230608T200000
DTSTAMP:20260424T094525
CREATED:20230412T212212Z
LAST-MODIFIED:20230412T213523Z
UID:3974-1686250800-1686254400@isabellamaldonado.com
SUMMARY:Signing at Poisoned Pen
DESCRIPTION:Live and broadcast online
URL:https://isabellamaldonado.com/event/signing-at-poisoned-pen/
LOCATION:Poisoned Pen\, 4014 N Goldwater Blvd\, Scottsdale\, AZ\, 85251\, United States
ATTACH;FMTTYPE=image/png:https://isabellamaldonado.com/wp-content/uploads/2023/04/Poisoned-Pen.png
END:VEVENT
BEGIN:VEVENT
DTSTART;VALUE=DATE:20230605
DTEND;VALUE=DATE:20230606
DTSTAMP:20260424T094525
CREATED:20230606T200642Z
LAST-MODIFIED:20230606T200642Z
UID:4000-1685923200-1686009599@isabellamaldonado.com
SUMMARY:Isabella on Cail & Company
DESCRIPTION:Listen to Isabella’s interview on Cail & Company here
URL:https://isabellamaldonado.com/event/isabella-on-cail-company/
ATTACH;FMTTYPE=image/png:https://isabellamaldonado.com/wp-content/uploads/2023/06/WKXL_NHtalk103.9-1450_logo.png
END:VEVENT
BEGIN:VEVENT
DTSTART;VALUE=DATE:20230601
DTEND;VALUE=DATE:20230602
DTSTAMP:20260424T094525
CREATED:20221026T193819Z
LAST-MODIFIED:20230413T180250Z
UID:3865-1685577600-1685663999@isabellamaldonado.com
SUMMARY:A KILLER'S GAME Release Day
DESCRIPTION:A KILLER’S GAME is released today!
URL:https://isabellamaldonado.com/event/a-killers-game-release-day/
ATTACH;FMTTYPE=image/jpeg:https://isabellamaldonado.com/wp-content/uploads/2022/10/A-Killers-Game.jpg
END:VEVENT
BEGIN:VEVENT
DTSTART;VALUE=DATE:20230530
DTEND;VALUE=DATE:20230604
DTSTAMP:20260424T094525
CREATED:20230317T192917Z
LAST-MODIFIED:20230403T215147Z
UID:3943-1685404800-1685836799@isabellamaldonado.com
SUMMARY:Thrillerfest
DESCRIPTION:Isabella will be teaching a class entitled: THE MIND OF A KILLER: A former cop shares techniques to craft an unforgettable villain on June 1 at 9 am. \nOn June 3 10:30 am\, Isabella will be chairing a panel entitled KILLING EVE\, BOSCH OR HANDMAID’S TALE?: Building A Series with Jack Carr\, Michael Connelly\, Lisa Gardner\, Charlaine Harris\, Mark Greaney\, and Brad Thor
URL:https://isabellamaldonado.com/event/thrillerfest-3/
LOCATION:Sheraton Times Square\, 811 7th Avenue\, New York\, NY\, 10019\, United States
ATTACH;FMTTYPE=image/png:https://isabellamaldonado.com/wp-content/uploads/2023/03/Thrillerfest-2023.png
END:VEVENT
BEGIN:VEVENT
DTSTART;TZID=America/Los_Angeles:20230515T170000
DTEND;TZID=America/Los_Angeles:20230515T180000
DTSTAMP:20260424T094525
CREATED:20230412T211758Z
LAST-MODIFIED:20230412T211845Z
UID:3971-1684170000-1684173600@isabellamaldonado.com
SUMMARY:Mystery and Thriller Mavens
DESCRIPTION:Isabella will be interviewed by Sara DiVello in this virtual event \nThere are two ways to watch live: \n1: Facebook: https://www.facebook.com/AuthorSaraDiVello/\n2: YouTube: https://www.youtube.com/channel/UCq_vdMgC-iev7unTONTu2Cg
URL:https://isabellamaldonado.com/event/mystery-and-thriller-mavens-2/
ATTACH;FMTTYPE=image/jpeg:https://isabellamaldonado.com/wp-content/uploads/2023/04/MTM-logo.jpg
END:VEVENT
BEGIN:VEVENT
DTSTART;TZID=America/Phoenix:20230413T160000
DTEND;TZID=America/Phoenix:20230413T170000
DTSTAMP:20260424T094525
CREATED:20220923T162835Z
LAST-MODIFIED:20220923T162835Z
UID:3821-1681401600-1681405200@isabellamaldonado.com
SUMMARY:Friends of SaddleBrooke Libraries
DESCRIPTION:Book talk and discussion. \nBook sales for the event will be handled by Mostly Books Bookstore \nAttendees can pre order in advance to reserve a copy or buy at the event.
URL:https://isabellamaldonado.com/event/friends-of-saddlebrooke-libraries/
LOCATION:DesertView Theater in SaddleBrooke\, 38759 S. Mountain View Boulevard\, Tucson\, AZ\, 85739\, United States
ATTACH;FMTTYPE=image/jpeg:https://isabellamaldonado.com/wp-content/uploads/2022/09/61df74b8c1f41.jpg
END:VEVENT
BEGIN:VEVENT
DTSTART;VALUE=DATE:20230330
DTEND;VALUE=DATE:20230403
DTSTAMP:20260424T094525
CREATED:20230317T191636Z
LAST-MODIFIED:20230317T191636Z
UID:3936-1680134400-1680479999@isabellamaldonado.com
SUMMARY:Readers Take Denver
DESCRIPTION:Isabella will be on two panels at Readers Take Denver! \n  \nFind the full schedule here: https://www.readerstakedenver.com/event-schedule.html
URL:https://isabellamaldonado.com/event/readers-take-denver/
LOCATION:Grand Hyatt Denver\, 1750 Welton St\,\, Denver\, CO\, 80202​\, United States
ATTACH;FMTTYPE=image/png:https://isabellamaldonado.com/wp-content/uploads/2023/03/Readers-Take-Denver.png
END:VEVENT
BEGIN:VEVENT
DTSTART;VALUE=DATE:20230304
DTEND;VALUE=DATE:20230306
DTSTAMP:20260424T094525
CREATED:20220913T184956Z
LAST-MODIFIED:20230303T215629Z
UID:3787-1677888000-1678060799@isabellamaldonado.com
SUMMARY:Tucson Festival of Books
DESCRIPTION:Isabella will be a featured author at the Tucson Festival of Books on the following panels: \nHigh Stakes\, High Thrills\nJ.A. Jance\, Laurie King and Isabella Maldonado all write books featuring tough-minded women who get things done. Why did they choose women as their protagonists? What advantages does that give the story line? So many questions!\nSat\, Mar 4\, 10:00 am – 11:00 am\nPanelists: J. A. Jance\, Laurie R. King\, Isabella Maldonado\nModerator: Tracy Clark\n\nThe Suspense is Killing Me\nIn this session\, Isabella Moldonado and Raquel Reyes will introduce us to their female-driven thrillers … both with a side of Latinidad.\nSat\, Mar 4\, 1:00 pm – 2:00 pm\nPanelists: Isabella Maldonado\, Raquel V. Reyes\nModerator: Kelsey Blackman\n\nEdge-of-Your-Seat Thrillers\nIt’s no mystery why we should attend this session. Three of mystery’s most popular authors — Isabella Maldonado\, Gregg Hurwitz and Yasmin Angoe — will discuss how a good thriller evolves. Where do all these remarkable plots come from? Are the authors on the edge of their seats as they write? So many questions!\nSun\, Mar 5\, 2:30 pm – 3:30 pm\nPanelists: Yasmin Angoe\, Gregg Hurwitz\, Isabella Maldonado\nModerator: Christine Burke
URL:https://isabellamaldonado.com/event/tucson-festival-of-books-2/
LOCATION:University of Arizona\, Tucson\, AZ\, 85721\, United States
ATTACH;FMTTYPE=image/jpeg:https://isabellamaldonado.com/wp-content/uploads/2022/09/TFOB.jpg
END:VEVENT
BEGIN:VEVENT
DTSTART;TZID=America/Phoenix:20221119T103000
DTEND;TZID=America/Phoenix:20221119T113000
DTSTAMP:20260424T094525
CREATED:20220819T203520Z
LAST-MODIFIED:20220819T203555Z
UID:3783-1668853800-1668857400@isabellamaldonado.com
SUMMARY:Croak and Dagger Book Club
DESCRIPTION:Isabella joins the Croak and Dagger Book Club at the Poisoned Pen bookstore to discuss THE FALCON. \nPlease join us live or virtually via Zoom (email Patrick King at pat@poisonedpen.com for a zoom invite)
URL:https://isabellamaldonado.com/event/croak-and-dagger-book-club/
LOCATION:Poisoned Pen\, 4014 N Goldwater Blvd\, Scottsdale\, AZ\, 85251\, United States
ATTACH;FMTTYPE=image/png:https://isabellamaldonado.com/wp-content/uploads/2022/03/29097-1.png
END:VEVENT
BEGIN:VEVENT
DTSTART;TZID=America/Phoenix:20221101T140000
DTEND;TZID=America/Phoenix:20221101T160000
DTSTAMP:20260424T094525
CREATED:20220622T210758Z
LAST-MODIFIED:20220623T183911Z
UID:3727-1667311200-1667318400@isabellamaldonado.com
SUMMARY:ITW's Annual Online Thriller School
DESCRIPTION:Isabella will be teaching Fundamentals of the Action Scene \nRegister now: https://web.cvent.com/event/7771b312-e069-4ec6-ace4-633d4b9e763f/summary \nIn this TEN-week program\, which begins September 13\, 2022\, the craft of thriller writing will be front and center. Each instructor will teach an aspect of craft during a live Zoom session\, will provide written materials for further reading along with study suggestions (when applicable)\, and will offer an entire week of online Q&A with the registered students. Classes will be held every Tuesday at 2:00pm Eastern. \nThe goal is simple: To make each student a better writer. Attendance is limited\, and we sold out last year\, so please register today! Registration for the ten-week online course is $495. \nThe talented instructors will delve into the following topics: Red Herrings\, Reversals\, and Twists; Creating Compelling Characters; Setting: How to Create Your Story World; FBI Myths and Misconceptions; The Thriller Writer’s Toolbox; All About Dialogue; How to Nail Structure; Fundamentals of the Action Scene; First Pages: How to Hook Your Reader\, and Pacing: How to Keep the Pages Turning! \nIncluding the bonus panel: “Ask me Anything” with Meg Gardiner\, C.J. Box\, Alex Segura\, and Panel Master\, Samuel Octavius \nSCHEDULE\n9/13 – 2pm Eastern\nRed Herrings\, Reversals\, and Twists\nHow to Keep Your Reader Guessing\nHank Phillippi Ryan\n_____ \n9/20 – 2pm Eastern\nCreating Compelling Characters\nSteven James\n_____ \n9/27 – 2pm Eastern\nSetting: How to Create Your Story World\nMary Kubica\n_____ \n10/4 – 2pm Eastern\nFBI Myths and Misconceptions\nJerri Williams\n_____ \n10/11 – 2pm Eastern\nThe Thriller Writer’s Toolbox\nWendy Walker\n_____ \n10/18 – 2pm Eastern\nAll About Dialogue\nTosca Lee\n_____ \n10/25 – 2pm Eastern\nHow to Nail Structure\nClare Mackintosh\n_____ \n11/1 – 2pm Eastern\nFundamentals of the Action Scene\nIsabella Maldonado\n_____ \n11/3 – 2pm Eastern\nBonus Panel (Thursday) – Ask Me Anything\nwith\nC.J. Box\, Meg Gardiner\, Alex Segura and Sam Octavius\, Panel Master\n_____ \n11/8 – 2pm Eastern\nFirst Pages: How to Hook Your Reader\nAlex Finlay\n_____ \n11/15 – 2pm Eastern\nPacing: How to Keep the Pages Turning\nJeffery Deaver
URL:https://isabellamaldonado.com/event/itws-annual-online-thriller-school/
ATTACH;FMTTYPE=image/png:https://isabellamaldonado.com/wp-content/uploads/2022/06/Screenshot-2022-06-23-143631.png
END:VEVENT
BEGIN:VEVENT
DTSTART;TZID=America/Phoenix:20221024T100000
DTEND;TZID=America/Phoenix:20221024T110000
DTSTAMP:20260424T094525
CREATED:20220819T181610Z
LAST-MODIFIED:20220914T165922Z
UID:3779-1666605600-1666609200@isabellamaldonado.com
SUMMARY:The Indy Author Podcast
DESCRIPTION:Choosing Your Publishing Path – Indy and Traditional
URL:https://isabellamaldonado.com/event/the-indy-author-podcast/
LOCATION:The Indy Author Podcast
ATTACH;FMTTYPE=image/jpeg:https://isabellamaldonado.com/wp-content/uploads/2022/08/tia-podcast-logo-3.jpg
END:VEVENT
BEGIN:VEVENT
DTSTART;VALUE=DATE:20221001
DTEND;VALUE=DATE:20221002
DTSTAMP:20260424T094525
CREATED:20220923T163912Z
LAST-MODIFIED:20220923T163912Z
UID:3826-1664582400-1664668799@isabellamaldonado.com
SUMMARY:2022 We All Grow Summit
DESCRIPTION:
URL:https://isabellamaldonado.com/event/2022-we-all-grow-summit/
LOCATION:La Quinta Resort\, 49-499 Eisenhower Dr\, La Quinta\, CA\, 92253\, United States
ATTACH;FMTTYPE=image/jpeg:https://isabellamaldonado.com/wp-content/uploads/2022/09/maxresdefault.jpg
END:VEVENT
BEGIN:VEVENT
DTSTART;TZID=America/Phoenix:20220927T160000
DTEND;TZID=America/Phoenix:20220927T170000
DTSTAMP:20260424T094525
CREATED:20220819T181010Z
LAST-MODIFIED:20220819T181010Z
UID:3775-1664294400-1664298000@isabellamaldonado.com
SUMMARY:Arizona Horizon (Arizona PBS) Interview
DESCRIPTION:This is a TV show appearance.
URL:https://isabellamaldonado.com/event/arizona-horizon-arizona-pbs-interview/
LOCATION:Arizona PBS
ATTACH;FMTTYPE=image/png:https://isabellamaldonado.com/wp-content/uploads/2022/08/Arizona-PBS.png
END:VEVENT
BEGIN:VEVENT
DTSTART;TZID=America/Phoenix:20220831T140000
DTEND;TZID=America/Phoenix:20220831T150000
DTSTAMP:20260424T094525
CREATED:20220819T180019Z
LAST-MODIFIED:20220819T180133Z
UID:3770-1661954400-1661958000@isabellamaldonado.com
SUMMARY:A Mighty Blaze: Authors Love Bookstores
DESCRIPTION:This is a virtual event. \nJoin Isabella and Barbara Peters from the Poisoned Pen Bookstore live at: \nYouTube: https://www.youtube.com/channel/UC9Lh_YSTYwLcjv7-gxRprzQ/ \nFacebook: https://www.facebook.com/AMIGHTYBLAZE/ \nTwitter: https://twitter.com/AMIGHTYBLAZE
URL:https://isabellamaldonado.com/event/a-mighty-blaze-authors-love-bookstores/
ATTACH;FMTTYPE=image/png:https://isabellamaldonado.com/wp-content/uploads/2022/08/Isabella-Maldonado-The-Poisoned-Pen-Twitter.png
END:VEVENT
END:VCALENDAR