BEGIN:VCALENDAR
VERSION:2.0
PRODID:-//Isabella Maldonado - ECPv6.15.20//NONSGML v1.0//EN
CALSCALE:GREGORIAN
METHOD:PUBLISH
X-ORIGINAL-URL:https://isabellamaldonado.com
X-WR-CALDESC:Events for Isabella Maldonado
REFRESH-INTERVAL;VALUE=DURATION:PT1H
X-Robots-Tag:noindex
X-PUBLISHED-TTL:PT1H
BEGIN:VTIMEZONE
TZID:America/Chicago
BEGIN:DAYLIGHT
TZOFFSETFROM:-0600
TZOFFSETTO:-0500
TZNAME:CDT
DTSTART:20210314T080000
END:DAYLIGHT
BEGIN:STANDARD
TZOFFSETFROM:-0500
TZOFFSETTO:-0600
TZNAME:CST
DTSTART:20211107T070000
END:STANDARD
BEGIN:DAYLIGHT
TZOFFSETFROM:-0600
TZOFFSETTO:-0500
TZNAME:CDT
DTSTART:20220313T080000
END:DAYLIGHT
BEGIN:STANDARD
TZOFFSETFROM:-0500
TZOFFSETTO:-0600
TZNAME:CST
DTSTART:20221106T070000
END:STANDARD
BEGIN:DAYLIGHT
TZOFFSETFROM:-0600
TZOFFSETTO:-0500
TZNAME:CDT
DTSTART:20230312T080000
END:DAYLIGHT
BEGIN:STANDARD
TZOFFSETFROM:-0500
TZOFFSETTO:-0600
TZNAME:CST
DTSTART:20231105T070000
END:STANDARD
END:VTIMEZONE
BEGIN:VTIMEZONE
TZID:America/Phoenix
BEGIN:STANDARD
TZOFFSETFROM:-0700
TZOFFSETTO:-0700
TZNAME:MST
DTSTART:20200101T000000
END:STANDARD
END:VTIMEZONE
BEGIN:VTIMEZONE
TZID:America/New_York
BEGIN:DAYLIGHT
TZOFFSETFROM:-0500
TZOFFSETTO:-0400
TZNAME:EDT
DTSTART:20200308T070000
END:DAYLIGHT
BEGIN:STANDARD
TZOFFSETFROM:-0400
TZOFFSETTO:-0500
TZNAME:EST
DTSTART:20201101T060000
END:STANDARD
BEGIN:DAYLIGHT
TZOFFSETFROM:-0500
TZOFFSETTO:-0400
TZNAME:EDT
DTSTART:20210314T070000
END:DAYLIGHT
BEGIN:STANDARD
TZOFFSETFROM:-0400
TZOFFSETTO:-0500
TZNAME:EST
DTSTART:20211107T060000
END:STANDARD
BEGIN:DAYLIGHT
TZOFFSETFROM:-0500
TZOFFSETTO:-0400
TZNAME:EDT
DTSTART:20220313T070000
END:DAYLIGHT
BEGIN:STANDARD
TZOFFSETFROM:-0400
TZOFFSETTO:-0500
TZNAME:EST
DTSTART:20221106T060000
END:STANDARD
BEGIN:DAYLIGHT
TZOFFSETFROM:-0500
TZOFFSETTO:-0400
TZNAME:EDT
DTSTART:20230312T070000
END:DAYLIGHT
BEGIN:STANDARD
TZOFFSETFROM:-0400
TZOFFSETTO:-0500
TZNAME:EST
DTSTART:20231105T060000
END:STANDARD
END:VTIMEZONE
BEGIN:VTIMEZONE
TZID:UTC
BEGIN:STANDARD
TZOFFSETFROM:+0000
TZOFFSETTO:+0000
TZNAME:UTC
DTSTART:20200101T000000
END:STANDARD
END:VTIMEZONE
BEGIN:VTIMEZONE
TZID:Asia/Karachi
BEGIN:STANDARD
TZOFFSETFROM:+0500
TZOFFSETTO:+0500
TZNAME:PKT
DTSTART:20200101T000000
END:STANDARD
END:VTIMEZONE
BEGIN:VTIMEZONE
TZID:America/New_York
BEGIN:DAYLIGHT
TZOFFSETFROM:-0500
TZOFFSETTO:-0400
TZNAME:EDT
DTSTART:20200308T070000
END:DAYLIGHT
BEGIN:STANDARD
TZOFFSETFROM:-0400
TZOFFSETTO:-0500
TZNAME:EST
DTSTART:20201101T060000
END:STANDARD
BEGIN:DAYLIGHT
TZOFFSETFROM:-0500
TZOFFSETTO:-0400
TZNAME:EDT
DTSTART:20210314T070000
END:DAYLIGHT
BEGIN:STANDARD
TZOFFSETFROM:-0400
TZOFFSETTO:-0500
TZNAME:EST
DTSTART:20211107T060000
END:STANDARD
BEGIN:DAYLIGHT
TZOFFSETFROM:-0500
TZOFFSETTO:-0400
TZNAME:EDT
DTSTART:20220313T070000
END:DAYLIGHT
BEGIN:STANDARD
TZOFFSETFROM:-0400
TZOFFSETTO:-0500
TZNAME:EST
DTSTART:20221106T060000
END:STANDARD
END:VTIMEZONE
BEGIN:VEVENT
DTSTART;TZID=America/Chicago:20220620T180000
DTEND;TZID=America/Chicago:20220620T190000
DTSTAMP:20260424T132604
CREATED:20220617T192219Z
LAST-MODIFIED:20220617T192353Z
UID:3717-1655748000-1655751600@isabellamaldonado.com
SUMMARY:Mystery and Thriller Mavens
DESCRIPTION:Isabella in conversation with Sara DiVello \nWatch on YouTube: https://www.youtube.com/channel/UCq_vdMgC-iev7unTONTu2Cg \nWatch on Facebook: https://www.facebook.com/Murder-by-the-Book-243815711002/?eid=ARDqQsIxAlAWsJkK8jqJ-hm2Nz62X2mULyWgQk5O7ww5rC291MGRB7Auk7L93iuMazLbGi1HDsu6EUpC
URL:https://isabellamaldonado.com/event/mystery-and-thriller-mavens/
LOCATION:Murder by the Book
ATTACH;FMTTYPE=image/png:https://isabellamaldonado.com/wp-content/uploads/2022/06/6-20-Isabella-Maldonado-and-Sara-DiVello-Twitter.png
END:VEVENT
BEGIN:VEVENT
DTSTART;TZID=America/Phoenix:20220604T080000
DTEND;TZID=America/Phoenix:20220604T090000
DTSTAMP:20260424T132604
CREATED:20220506T182408Z
LAST-MODIFIED:20220506T182408Z
UID:3681-1654329600-1654333200@isabellamaldonado.com
SUMMARY:Thrillerfest Panel: Researching Your Novel
DESCRIPTION:
URL:https://isabellamaldonado.com/event/thrillerfest-panel-researching-your-novel/
LOCATION:Sheraton Times Square\, 811 7th Avenue\, New York\, NY\, 10019\, United States
ATTACH;FMTTYPE=image/png:https://isabellamaldonado.com/wp-content/uploads/2022/05/Tfest-Panel.png
END:VEVENT
BEGIN:VEVENT
DTSTART;TZID=America/New_York:20220601T150000
DTEND;TZID=America/New_York:20220601T155000
DTSTAMP:20260424T132604
CREATED:20220311T215539Z
LAST-MODIFIED:20220311T215539Z
UID:3650-1654095600-1654098600@isabellamaldonado.com
SUMMARY:CraftFest: Writing Visually
DESCRIPTION:Isabella shares techniques to make readers see your story play out in their minds.
URL:https://isabellamaldonado.com/event/craftfest-writing-visually/
LOCATION:Sheraton Times Square\, 811 7th Avenue\, New York\, NY\, 10019\, United States
ATTACH;FMTTYPE=image/jpeg:https://isabellamaldonado.com/wp-content/uploads/2022/02/Thrillerfest.jpg
END:VEVENT
BEGIN:VEVENT
DTSTART;VALUE=DATE:20220531
DTEND;VALUE=DATE:20220605
DTSTAMP:20260424T132604
CREATED:20220202T034037Z
LAST-MODIFIED:20220202T034037Z
UID:3572-1653955200-1654387199@isabellamaldonado.com
SUMMARY:Thrillerfest
DESCRIPTION:
URL:https://isabellamaldonado.com/event/thrillerfest-2/
LOCATION:Sheraton Times Square\, 811 7th Avenue\, New York\, NY\, 10019\, United States
ATTACH;FMTTYPE=image/jpeg:https://isabellamaldonado.com/wp-content/uploads/2022/02/Thrillerfest.jpg
END:VEVENT
BEGIN:VEVENT
DTSTART;TZID=America/Phoenix:20220521T100000
DTEND;TZID=America/Phoenix:20220521T110000
DTSTAMP:20260424T132604
CREATED:20220506T175153Z
LAST-MODIFIED:20220506T191359Z
UID:3675-1653127200-1653130800@isabellamaldonado.com
SUMMARY:Signing at Barnes & Noble\, Surprise\, AZ
DESCRIPTION:In-person signing of The Cipher and A Different Dawn. RSVP on Facebook: https://fb.me/e/1EFU5CuCg
URL:https://isabellamaldonado.com/event/signing-at-barnes-noble-surprise-az/
LOCATION:Barnes & Noble\, Surprise AZ\, 13719 W Bell Rd\, Surprise\, AZ\, 85374\, United States
ATTACH;FMTTYPE=image/jpeg:https://isabellamaldonado.com/wp-content/uploads/2022/05/2018_bn-logo-gold-e1651859453802.jpg
END:VEVENT
BEGIN:VEVENT
DTSTART;TZID=America/New_York:20220515T200000
DTEND;TZID=America/New_York:20220515T200000
DTSTAMP:20260424T132605
CREATED:20220204T154825Z
LAST-MODIFIED:20220204T154825Z
UID:3584-1652644800-1652644800@isabellamaldonado.com
SUMMARY:Fixin' Crowns Book Club
DESCRIPTION:Discussion of A DIFFERENT DAWN
URL:https://isabellamaldonado.com/event/fixin-crowns-book-club/
LOCATION:AZ
ATTACH;FMTTYPE=image/png:https://isabellamaldonado.com/wp-content/uploads/2022/02/Fixin-Crowns.png
END:VEVENT
BEGIN:VEVENT
DTSTART;TZID=America/Phoenix:20220326T103000
DTEND;TZID=America/Phoenix:20220326T133000
DTSTAMP:20260424T132605
CREATED:20210122T125908Z
LAST-MODIFIED:20220311T225828Z
UID:3063-1648290600-1648301400@isabellamaldonado.com
SUMMARY:Books n' Lunch annual event at the Philanthropic Educational Organization
DESCRIPTION:Featured author and guest speaker
URL:https://isabellamaldonado.com/event/books-n-lunch-annual-event-at-the-philanthropic-educational-organization/
LOCATION:The Church at Litchfield Park\, 300 N Old Litchfield Rd\, Litchfield Park\, AZ\, 85340\, United States
ATTACH;FMTTYPE=image/png:https://isabellamaldonado.com/wp-content/uploads/2021/08/PEO-logo.png
END:VEVENT
BEGIN:VEVENT
DTSTART;TZID=America/Phoenix:20220325T140000
DTEND;TZID=America/Phoenix:20220325T150000
DTSTAMP:20260424T132605
CREATED:20210901T060511Z
LAST-MODIFIED:20220129T034729Z
UID:3250-1648216800-1648220400@isabellamaldonado.com
SUMMARY:FMCA 104th International Convention & RV Expo
DESCRIPTION:Q&A and book signing
URL:https://isabellamaldonado.com/event/fmca-104th-international-convention-rv-expo/
LOCATION:AZ
ATTACH;FMTTYPE=image/png:https://isabellamaldonado.com/wp-content/uploads/2021/08/FMCALogo-NoMargin-lowres.png
END:VEVENT
BEGIN:VEVENT
DTSTART;VALUE=DATE:20220324
DTEND;VALUE=DATE:20220325
DTSTAMP:20260424T132605
CREATED:20210901T040325Z
LAST-MODIFIED:20220129T034916Z
UID:3240-1648080000-1648166399@isabellamaldonado.com
SUMMARY:Private Book Club (Corporate Event)
DESCRIPTION:Special appearance \nDates \nThursday\, March 24\, 2022\nSunday\, March 27\, 2022\nWednesday\, March 30\, 2022
URL:https://isabellamaldonado.com/event/private-book-club-corporate-event/
LOCATION:AZ
ATTACH;FMTTYPE=image/png:https://isabellamaldonado.com/wp-content/uploads/2021/08/Phoenician-Hotel.png
END:VEVENT
BEGIN:VEVENT
DTSTART;TZID=America/New_York:20211115T190000
DTEND;TZID=America/New_York:20211115T200000
DTSTAMP:20260424T132605
CREATED:20210901T035439Z
LAST-MODIFIED:20220129T044621Z
UID:3236-1637002800-1637006400@isabellamaldonado.com
SUMMARY:Rogue Reads
DESCRIPTION:Isabella joins three other authors and host Lisa Black of Rogue Women Writers for Rogue Reads\, featuring A DIFFERENT DAWN. Register for free at the event link below.
URL:https://isabellamaldonado.com/event/rogue-reads/
LOCATION:AZ
ATTACH;FMTTYPE=image/jpeg:https://isabellamaldonado.com/wp-content/uploads/2021/08/Rogue-Women-Writers-300x25-1.jpg
END:VEVENT
BEGIN:VEVENT
DTSTART;VALUE=DATE:20210928
DTEND;VALUE=DATE:20210929
DTSTAMP:20260424T132605
CREATED:20210622T081048Z
LAST-MODIFIED:20220129T045719Z
UID:3218-1632787200-1632873599@isabellamaldonado.com
SUMMARY:Audiobook launch
DESCRIPTION:Launch day for the audiobook version of DEATH BLOW\, book 3 in Isabella’s award-winning Detective Cruz series. Read by Raquel Beattie and produced by Tantor media.
URL:https://isabellamaldonado.com/event/audiobook-launch-2/
LOCATION:AZ
ATTACH;FMTTYPE=image/jpeg:https://isabellamaldonado.com/wp-content/uploads/2021/06/Death-Blow-Audiobook.jpg
END:VEVENT
BEGIN:VEVENT
DTSTART;TZID=America/New_York:20210921T190000
DTEND;TZID=America/New_York:20210921T200000
DTSTAMP:20260424T132605
CREATED:20210901T034549Z
LAST-MODIFIED:20220129T044734Z
UID:3232-1632250800-1632254400@isabellamaldonado.com
SUMMARY:In Discussion with Tori Eldridge
DESCRIPTION:Isabella will be in discussion with award-nominated author Tori Eldridge about THE NINJA BETRAYED\, the third book in Eldridge’s ninja series. \nVisit this link to register (for free): https://www.doylestownbookshop.com/event/virtual-event-tori-eldridge-discusses-ninja-betrayed-isabella-maldonado
URL:https://isabellamaldonado.com/event/in-discussion-with-tori-eldridge/
LOCATION:AZ
ATTACH;FMTTYPE=image/jpeg:https://isabellamaldonado.com/wp-content/uploads/2021/08/Doylestown-300x105-1.jpg
END:VEVENT
BEGIN:VEVENT
DTSTART;VALUE=DATE:20210914
DTEND;VALUE=DATE:20210915
DTSTAMP:20260424T132605
CREATED:20210622T080750Z
LAST-MODIFIED:20220129T045816Z
UID:3216-1631577600-1631663999@isabellamaldonado.com
SUMMARY:Audiobook launch day
DESCRIPTION:Launch day for the audiobook version of PHOENIX BURNING\, book 2 in Isabella’s award-winning Detective Cruz series. Read by Raquel Beattie and produced by Tantor media.
URL:https://isabellamaldonado.com/event/audiobook-launch-day/
LOCATION:AZ
ATTACH;FMTTYPE=image/jpeg:https://isabellamaldonado.com/wp-content/uploads/2021/06/Phoenix-Burning-Audiobook.jpg
END:VEVENT
BEGIN:VEVENT
DTSTART;TZID=America/Phoenix:20210911T111500
DTEND;TZID=America/Phoenix:20210911T120000
DTSTAMP:20260424T132605
CREATED:20210122T125449Z
LAST-MODIFIED:20220129T044906Z
UID:3060-1631358900-1631361600@isabellamaldonado.com
SUMMARY:Tempe Library Mystery Club Talk Featuring BLOOD'S ECHO
DESCRIPTION:Hosted by the Tempe Public Library: Join Isabella for this Zoom talk to discuss the first book in her award-winning series featuring Phoenix police detective Veranda Cruz\, BLOOD’S ECHO.
URL:https://isabellamaldonado.com/event/book-club-talk-featuring-bloods-echo/
LOCATION:AZ
ATTACH;FMTTYPE=image/png:https://isabellamaldonado.com/wp-content/uploads/2021/08/Tempe-Library.png
END:VEVENT
BEGIN:VEVENT
DTSTART;TZID=America/Phoenix:20210911T093000
DTEND;TZID=America/Phoenix:20210911T103000
DTSTAMP:20260424T132605
CREATED:20210506T002818Z
LAST-MODIFIED:20220129T045114Z
UID:3192-1631352600-1631356200@isabellamaldonado.com
SUMMARY:Write Now! Annual Workshop & Conference - Panelist
DESCRIPTION:Isabella will appear on a virtual panel\, “The Road to Success” at the Sisters in Crime Desert Sleuths Chapter annual WriteNow! workshop and conference. Click the link below to sign up for the event named the Best Writers Conference in Arizona by The Writer Magazine!
URL:https://isabellamaldonado.com/event/write-now-annual-workshop-conference-panelist/
LOCATION:AZ
ATTACH;FMTTYPE=image/png:https://isabellamaldonado.com/wp-content/uploads/2021/05/Road-to-success.png
END:VEVENT
BEGIN:VEVENT
DTSTART;VALUE=DATE:20210821
DTEND;VALUE=DATE:20210822
DTSTAMP:20260424T132605
CREATED:20210122T124627Z
LAST-MODIFIED:20220913T194109Z
UID:3057-1629504000-1629590399@isabellamaldonado.com
SUMMARY:Phoenix Writers Club
DESCRIPTION:Isabella shares her writing techniques and her journey from crime fighter to crime writer \nhttps://www.facebook.com/phxwritersclub
URL:https://isabellamaldonado.com/event/phoenix-writers-club/
LOCATION:AZ
ATTACH;FMTTYPE=:
END:VEVENT
BEGIN:VEVENT
DTSTART;TZID=Asia/Karachi:20210810T123000
DTEND;TZID=Asia/Karachi:20210810T123000
DTSTAMP:20260424T132605
CREATED:20201122T121247Z
LAST-MODIFIED:20201122T121247Z
UID:2952-1628598600-1628598600@isabellamaldonado.com
SUMMARY:First Chapter Fun
DESCRIPTION:Publication Day Party!!! \nTune in via Facebook or Instagram to hear a reading of the first chapter of A DIFFERENT DAWN \nFacebook link: https://www.facebook.com/groups/firstchapterfun/ \nInstagram link: https://www.instagram.com/firstchapterfun/?hl=en
URL:https://isabellamaldonado.com/event/first-chapter-fun/
LOCATION:AZ
ATTACH;FMTTYPE=:
END:VEVENT
BEGIN:VEVENT
DTSTART;VALUE=DATE:20210810
DTEND;VALUE=DATE:20210811
DTSTAMP:20260424T132605
CREATED:20201122T120844Z
LAST-MODIFIED:20201122T120844Z
UID:2949-1628553600-1628639999@isabellamaldonado.com
SUMMARY:Publication day for A DIFFERENT DAWN
DESCRIPTION:Book 2 in the bestselling Nina Guerrera FBI thriller series officially hits the shelves! Available in print\, kindle\, and audiobook formats. \nhttps://www.amazon.com/Different-Dawn-Nina-Guerrera-Book-ebook/dp/B08H223YDH
URL:https://isabellamaldonado.com/event/publication-day/
LOCATION:AZ
ATTACH;FMTTYPE=:
END:VEVENT
BEGIN:VEVENT
DTSTART;VALUE=DATE:20210720
DTEND;VALUE=DATE:20210721
DTSTAMP:20260424T132605
CREATED:20210622T080132Z
LAST-MODIFIED:20210622T080132Z
UID:3214-1626739200-1626825599@isabellamaldonado.com
SUMMARY:Audiobook launch
DESCRIPTION:Launch day for the audiobook version of Isabella’s award-winning debut novel\, BLOOD’S ECHO\, featuring Detective Veranda Cruz. Read by Raquel Beattie and produced by Tantor Media.
URL:https://isabellamaldonado.com/event/audiobook-launch/
LOCATION:AZ
ATTACH;FMTTYPE=:
END:VEVENT
BEGIN:VEVENT
DTSTART;VALUE=DATE:20210720
DTEND;VALUE=DATE:20210721
DTSTAMP:20260424T132605
CREATED:20210506T002024Z
LAST-MODIFIED:20210506T002024Z
UID:3188-1626739200-1626825599@isabellamaldonado.com
SUMMARY:Podcast - Meet the Thriller Author
DESCRIPTION:Isabella will appear on the popular MEET THE THRILLER AUTHOR podcast hosted by Alan Petersen. Please join the fun!
URL:https://isabellamaldonado.com/event/podcast-meet-the-thriller-author/
LOCATION:AZ
ATTACH;FMTTYPE=:
END:VEVENT
BEGIN:VEVENT
DTSTART;TZID=America/New_York:20210712T183000
DTEND;TZID=America/New_York:20210712T193000
DTSTAMP:20260424T132605
CREATED:20210622T075331Z
LAST-MODIFIED:20210622T075331Z
UID:3211-1626114600-1626118200@isabellamaldonado.com
SUMMARY:Cecil County Public Library author talk
DESCRIPTION:Join Isabella as she discusses her bestselling FBI Agent Guerrera series and how her career in law enforcement informs her crime fiction.
URL:https://isabellamaldonado.com/event/cecil-county-public-library-author-talk/
LOCATION:AZ
ATTACH;FMTTYPE=:
END:VEVENT
BEGIN:VEVENT
DTSTART;VALUE=DATE:20210617
DTEND;VALUE=DATE:20210618
DTSTAMP:20260424T132605
CREATED:20210506T000444Z
LAST-MODIFIED:20220913T194050Z
UID:3181-1623888000-1623974399@isabellamaldonado.com
SUMMARY:Belmont Books webinar
DESCRIPTION:Please join Isabella and fellow authors Hannah Mary McKinnon\, Mary Kubica\, Amina Akhtar\, and Laura McHugh for “A Night of Mystery” Zoom webinar moderated by author Hank Phillipi Ryan and hosted by Belmont Books.
URL:https://isabellamaldonado.com/event/belmont-books-webinar/
LOCATION:AZ
ATTACH;FMTTYPE=:
END:VEVENT
BEGIN:VEVENT
DTSTART;VALUE=DATE:20210612
DTEND;VALUE=DATE:20210613
DTSTAMP:20260424T132605
CREATED:20210307T064854Z
LAST-MODIFIED:20220913T194016Z
UID:3093-1623456000-1623542399@isabellamaldonado.com
SUMMARY:California Crime Writers Conference panelist
DESCRIPTION:Police Procedurals 2021: Social Justice and the Pandemic \nModerated by Jessica Kaye\, President of the Southern CA chapter of Mystery Writers of America \nIsabella joins fellow panelists Rachel Howzell Hall\, Faye Snowden\, and Ausma Kahn to discuss how the Black Lives Matter movement and the Covid-19 pandemic has affected what they write and how they write it.
URL:https://isabellamaldonado.com/event/california-crime-writers-conference-panelist/
LOCATION:AZ
ATTACH;FMTTYPE=:
END:VEVENT
BEGIN:VEVENT
DTSTART;VALUE=DATE:20210605
DTEND;VALUE=DATE:20210606
DTSTAMP:20260424T132605
CREATED:20210505T235458Z
LAST-MODIFIED:20210505T235458Z
UID:3178-1622851200-1622937599@isabellamaldonado.com
SUMMARY:Maine Crime Wave author panel
DESCRIPTION:Please join Isabella as she discusses “Building My Protagonist” with fellow panelists Tess Gerritsen\, Lou Berney\, Paul Doiron\, and Carla Neggers at this wonderful virtual event. There will be a virtual book room and coffee klatch too!
URL:https://isabellamaldonado.com/event/maine-crime-wave-author-panel/
LOCATION:AZ
ATTACH;FMTTYPE=:
END:VEVENT
BEGIN:VEVENT
DTSTART;VALUE=DATE:20210422
DTEND;VALUE=DATE:20210423
DTSTAMP:20260424T132605
CREATED:20210307T063655Z
LAST-MODIFIED:20220913T193950Z
UID:3088-1619049600-1619135999@isabellamaldonado.com
SUMMARY:Crime Writers of Color Symposium panel
DESCRIPTION:Isabella will be speaking on a panel of Crime Writers of Color regarding Police-Community Relations in Crime Fiction \nHosted by author Frankie Bailey at the University of Albany
URL:https://isabellamaldonado.com/event/crime-writers-of-color-symposium-panel/
LOCATION:AZ
ATTACH;FMTTYPE=:
END:VEVENT
BEGIN:VEVENT
DTSTART;VALUE=DATE:20210329
DTEND;VALUE=DATE:20210330
DTSTAMP:20260424T132605
CREATED:20210122T122946Z
LAST-MODIFIED:20220913T193918Z
UID:3049-1616976000-1617062399@isabellamaldonado.com
SUMMARY:Las Comadres & Friends National Latino Book Club
DESCRIPTION:Please join Isabella for a national teleconference in which she answers questions from readers about THE CIPHER\, law enforcement\, and her journey from crime fighter to crime writer. \nhttp://lascomadres.com/latinolit/march-isabella-maldonado/
URL:https://isabellamaldonado.com/event/las-comadres-friends-national-latino-book-club/
LOCATION:AZ
ATTACH;FMTTYPE=:
END:VEVENT
BEGIN:VEVENT
DTSTART;VALUE=DATE:20210320
DTEND;VALUE=DATE:20210321
DTSTAMP:20260424T132605
CREATED:20201205T172615Z
LAST-MODIFIED:20220913T193853Z
UID:2978-1616198400-1616284799@isabellamaldonado.com
SUMMARY:American Association of University Women (Scottsdale Branch)
DESCRIPTION:Featured speaker via Zoom\nhttps://www.aauwarizona.org/
URL:https://isabellamaldonado.com/event/featured-speaker-for-the-american-association-of-university-women-annual-author-luncheon/
LOCATION:AZ
ATTACH;FMTTYPE=:
END:VEVENT
BEGIN:VEVENT
DTSTART;TZID=America/New_York:20210311T193000
DTEND;TZID=America/New_York:20210311T193000
DTSTAMP:20260424T132605
CREATED:20210201T142302Z
LAST-MODIFIED:20210201T142302Z
UID:3079-1615491000-1615491000@isabellamaldonado.com
SUMMARY:Virtual Jimmy Buffett Event
DESCRIPTION:Join all of the authors for a virtual event featuring songs and short stories based on Jimmy Buffett’s GREAT FILLING STATION HOLDUP. \nHosted by the Seahawk Writing Conference at Broward College in Florida
URL:https://isabellamaldonado.com/event/virtual-jimmy-buffett-event/
LOCATION:AZ
ATTACH;FMTTYPE=:
END:VEVENT
BEGIN:VEVENT
DTSTART;VALUE=DATE:20210310
DTEND;VALUE=DATE:20210311
DTSTAMP:20260424T132605
CREATED:20210505T233950Z
LAST-MODIFIED:20210505T233950Z
UID:3175-1615334400-1615420799@isabellamaldonado.com
SUMMARY:Amazon International Women's Day speaker
DESCRIPTION:Join me and three other authors as we discuss what it’s like to overcome adversity\, imposter syndrome\, and other obstacles in the workplace as we each charted our own course to success. Livestreamed on March 10\, 2021. Available for viewing anytime (click on the link).
URL:https://isabellamaldonado.com/event/amazon-international-womens-day-speaker/
LOCATION:AZ
ATTACH;FMTTYPE=:
END:VEVENT
BEGIN:VEVENT
DTSTART;TZID=UTC:20210226T180000
DTEND;TZID=UTC:20210226T180000
DTSTAMP:20260424T132605
CREATED:20210201T141631Z
LAST-MODIFIED:20210201T141631Z
UID:3075-1614362400-1614362400@isabellamaldonado.com
SUMMARY:Noir at the Bar\, Los Angeles
DESCRIPTION:Join me for a great FB live author event. BYOB and come to L.A. without having to book a flight! \nhttps://www.facebook.com/NoirAtTheBarLa/
URL:https://isabellamaldonado.com/event/noir-at-the-bar-los-angeles/
LOCATION:AZ
ATTACH;FMTTYPE=:
END:VEVENT
END:VCALENDAR