BEGIN:VCALENDAR
VERSION:2.0
PRODID:-//Isabella Maldonado - ECPv6.15.20//NONSGML v1.0//EN
CALSCALE:GREGORIAN
METHOD:PUBLISH
X-WR-CALNAME:Isabella Maldonado
X-ORIGINAL-URL:https://isabellamaldonado.com
X-WR-CALDESC:Events for Isabella Maldonado
REFRESH-INTERVAL;VALUE=DURATION:PT1H
X-Robots-Tag:noindex
X-PUBLISHED-TTL:PT1H
BEGIN:VTIMEZONE
TZID:UTC
BEGIN:STANDARD
TZOFFSETFROM:+0000
TZOFFSETTO:+0000
TZNAME:UTC
DTSTART:20080101T000000
END:STANDARD
END:VTIMEZONE
BEGIN:VTIMEZONE
TZID:America/Denver
BEGIN:DAYLIGHT
TZOFFSETFROM:-0700
TZOFFSETTO:-0600
TZNAME:MDT
DTSTART:20190310T090000
END:DAYLIGHT
BEGIN:STANDARD
TZOFFSETFROM:-0600
TZOFFSETTO:-0700
TZNAME:MST
DTSTART:20191103T080000
END:STANDARD
BEGIN:DAYLIGHT
TZOFFSETFROM:-0700
TZOFFSETTO:-0600
TZNAME:MDT
DTSTART:20200308T090000
END:DAYLIGHT
BEGIN:STANDARD
TZOFFSETFROM:-0600
TZOFFSETTO:-0700
TZNAME:MST
DTSTART:20201101T080000
END:STANDARD
BEGIN:DAYLIGHT
TZOFFSETFROM:-0700
TZOFFSETTO:-0600
TZNAME:MDT
DTSTART:20210314T090000
END:DAYLIGHT
BEGIN:STANDARD
TZOFFSETFROM:-0600
TZOFFSETTO:-0700
TZNAME:MST
DTSTART:20211107T080000
END:STANDARD
END:VTIMEZONE
BEGIN:VTIMEZONE
TZID:America/Phoenix
BEGIN:STANDARD
TZOFFSETFROM:-0700
TZOFFSETTO:-0700
TZNAME:MST
DTSTART:20190101T000000
END:STANDARD
END:VTIMEZONE
BEGIN:VTIMEZONE
TZID:America/New_York
BEGIN:DAYLIGHT
TZOFFSETFROM:-0500
TZOFFSETTO:-0400
TZNAME:EDT
DTSTART:20190310T070000
END:DAYLIGHT
BEGIN:STANDARD
TZOFFSETFROM:-0400
TZOFFSETTO:-0500
TZNAME:EST
DTSTART:20191103T060000
END:STANDARD
BEGIN:DAYLIGHT
TZOFFSETFROM:-0500
TZOFFSETTO:-0400
TZNAME:EDT
DTSTART:20200308T070000
END:DAYLIGHT
BEGIN:STANDARD
TZOFFSETFROM:-0400
TZOFFSETTO:-0500
TZNAME:EST
DTSTART:20201101T060000
END:STANDARD
BEGIN:DAYLIGHT
TZOFFSETFROM:-0500
TZOFFSETTO:-0400
TZNAME:EDT
DTSTART:20210314T070000
END:DAYLIGHT
BEGIN:STANDARD
TZOFFSETFROM:-0400
TZOFFSETTO:-0500
TZNAME:EST
DTSTART:20211107T060000
END:STANDARD
END:VTIMEZONE
BEGIN:VEVENT
DTSTART;TZID=UTC:20201111T150000
DTEND;TZID=UTC:20201111T170000
DTSTAMP:20260424T173725
CREATED:20201019T115659Z
LAST-MODIFIED:20201019T115659Z
UID:2876-1605106800-1605114000@isabellamaldonado.com
SUMMARY:Tucson Festival of Books virtual event w/ Brad Thor
DESCRIPTION:Please join me for a lively interview with a #1 New York Times bestselling author! \nLink: https://www.crowdcast.io/e/best-selling-thriller/register?utm_source=profile&utm_medium=profile_web&utm_campaign=profile
URL:https://isabellamaldonado.com/event/tucson-festival-of-books-virtual-event-w-brad-thor/
ATTACH;FMTTYPE=:
END:VEVENT
BEGIN:VEVENT
DTSTART;TZID=America/Denver:20201110T070000
DTEND;TZID=America/Denver:20201110T120000
DTSTAMP:20260424T173725
CREATED:20201019T113255Z
LAST-MODIFIED:20201019T113255Z
UID:2872-1604991600-1605009600@isabellamaldonado.com
SUMMARY:Guest post on Wicked Authors:
DESCRIPTION:“Creative Chaos” \nLink: https://wickedauthors.com/
URL:https://isabellamaldonado.com/event/guest-post-on-wicked-authors/
ATTACH;FMTTYPE=:
END:VEVENT
BEGIN:VEVENT
DTSTART;TZID=America/Denver:20201109T173000
DTEND;TZID=America/Denver:20201109T180000
DTSTAMP:20260424T173725
CREATED:20201019T113000Z
LAST-MODIFIED:20201019T113000Z
UID:2869-1604943000-1604944800@isabellamaldonado.com
SUMMARY:Poisoned Pen Bookstore\, Scottsdale\, AZ Hybrid virtual AND in-person event
DESCRIPTION:Autographed copies of THE CIPHER will be available for purchase and can be shipped worldwide. \nLink: https://www.poisonedpenevents.com/event/isabella-maldonado-discusses-the-cipher/?instance_id=4445
URL:https://isabellamaldonado.com/event/poisoned-pen-bookstore-scottsdale-az-hybrid-virtual-and-in-person-event/
ATTACH;FMTTYPE=:
END:VEVENT
BEGIN:VEVENT
DTSTART;VALUE=DATE:20201109
DTEND;VALUE=DATE:20201116
DTSTAMP:20260424T173725
CREATED:20201026T064916Z
LAST-MODIFIED:20201026T064916Z
UID:2921-1604880000-1605484799@isabellamaldonado.com
SUMMARY:Frolic media interview
DESCRIPTION:Link: https://frolic.media/
URL:https://isabellamaldonado.com/event/frolic-media-interview/
ATTACH;FMTTYPE=:
END:VEVENT
BEGIN:VEVENT
DTSTART;VALUE=DATE:20201109
DTEND;VALUE=DATE:20201114
DTSTAMP:20260424T173725
CREATED:20201019T115837Z
LAST-MODIFIED:20220913T193713Z
UID:2879-1604880000-1605311999@isabellamaldonado.com
SUMMARY:The Big Thrill
DESCRIPTION:International Thriller Writer’s magazine will feature a story on THE CIPHER \nLink: https://www.thebigthrill.org/
URL:https://isabellamaldonado.com/event/the-big-thrill/
ATTACH;FMTTYPE=:
END:VEVENT
BEGIN:VEVENT
DTSTART;VALUE=DATE:20201106
DTEND;VALUE=DATE:20201107
DTSTAMP:20260424T173725
CREATED:20201103T002318Z
LAST-MODIFIED:20201103T002318Z
UID:2925-1604620800-1604707199@isabellamaldonado.com
SUMMARY:Crime Reads
DESCRIPTION:Crime Reads magazine will feature an excerpt from THE CIPHER \nLink: https://crimereads.com/
URL:https://isabellamaldonado.com/event/crime-reads/
ATTACH;FMTTYPE=:
END:VEVENT
BEGIN:VEVENT
DTSTART;VALUE=DATE:20201106
DTEND;VALUE=DATE:20201107
DTSTAMP:20260424T173725
CREATED:20201019T112550Z
LAST-MODIFIED:20201019T112550Z
UID:2866-1604620800-1604707199@isabellamaldonado.com
SUMMARY:Guest blog post on Dru’s Book Musings:
DESCRIPTION:“A Day in the Life of FBI Special Agent Nina Guerrera” \nLink: https://drusbookmusing.com/
URL:https://isabellamaldonado.com/event/a-day-in-the-life-of-fbi-special-agent-nina-guerrera/
ATTACH;FMTTYPE=:
END:VEVENT
BEGIN:VEVENT
DTSTART;TZID=America/New_York:20201105T123000
DTEND;TZID=America/New_York:20201105T133000
DTSTAMP:20260424T173725
CREATED:20200831T192300Z
LAST-MODIFIED:20200831T192300Z
UID:2843-1604579400-1604583000@isabellamaldonado.com
SUMMARY:First Chapter Fun
DESCRIPTION:Bestselling author and TV news reporter Hank Phillipi-Ryan will read the first chapter of THE CIPHER (streamed on FB live\, Insta\, and Twitter). \nFacebook Link: https://www.facebook.com/groups/firstchapterfun \nInstagram Link: https://www.instagram.com/firstchapterfun/?fbclid=IwAR0Hf8sswGiRELBzJ9Ef5hfAaNWSau5TfFilMqiMOVm7grmX3-Ve2JaGe84
URL:https://isabellamaldonado.com/event/virtual-event-first-chapter-fun/
ATTACH;FMTTYPE=:
END:VEVENT
BEGIN:VEVENT
DTSTART;VALUE=DATE:20201101
DTEND;VALUE=DATE:20201102
DTSTAMP:20260424T173725
CREATED:20200831T181221Z
LAST-MODIFIED:20220913T193604Z
UID:2839-1604188800-1604275199@isabellamaldonado.com
SUMMARY:Publication Day
DESCRIPTION:THE CIPHER will be released into the wild \nlink: https://www.amazon.com/Cipher-Nina-Guerrera-Isabella-Maldonado/dp/1542022479/ref=tmm_pap_swatch_0?_encoding=UTF8&qid=&sr=
URL:https://isabellamaldonado.com/event/book-launch-for-the-cipher/
ATTACH;FMTTYPE=:
END:VEVENT
BEGIN:VEVENT
DTSTART;VALUE=DATE:20201025
DTEND;VALUE=DATE:20201026
DTSTAMP:20260424T173725
CREATED:20200309T233424Z
LAST-MODIFIED:20220913T193427Z
UID:2594-1603584000-1603670399@isabellamaldonado.com
SUMMARY:Presentation for the Society of Southwestern Authors
DESCRIPTION:Please join me via Zoom for my favorite fixes when I fall into a plot hole! \nlink: http://www.ssa-vs.org/
URL:https://isabellamaldonado.com/event/presentation-for-the-society-of-southwestern-authors/
ATTACH;FMTTYPE=:
END:VEVENT
BEGIN:VEVENT
DTSTART;TZID=UTC:20200811T200000
DTEND;TZID=UTC:20200811T213000
DTSTAMP:20260424T173725
CREATED:20200309T234319Z
LAST-MODIFIED:20200309T234319Z
UID:2607-1597176000-1597181400@isabellamaldonado.com
SUMMARY:Sisters in Crime Isabella Maldonado and Bruce Coffin in conversation
DESCRIPTION:
URL:https://isabellamaldonado.com/event/sisters-in-crime-isabella-maldonado-and-bruce-coffin-in-conversation/
ATTACH;FMTTYPE=:
END:VEVENT
BEGIN:VEVENT
DTSTART;VALUE=DATE:20200805
DTEND;VALUE=DATE:20200806
DTSTAMP:20260424T173725
CREATED:20200805T223153Z
LAST-MODIFIED:20220913T194532Z
UID:2803-1596585600-1596671999@isabellamaldonado.com
SUMMARY:VIRTUAL EVENT: J.A. Jance in Conversation with Isabella Maldonado
DESCRIPTION:
URL:https://isabellamaldonado.com/event/virtual-event-j-a-jance-in-conversation-with-isabella-maldonado/
ATTACH;FMTTYPE=:
END:VEVENT
BEGIN:VEVENT
DTSTART;TZID=UTC:20200321T113000
DTEND;TZID=UTC:20200321T170000
DTSTAMP:20260424T173725
CREATED:20200309T233831Z
LAST-MODIFIED:20200309T233831Z
UID:2599-1584790200-1584810000@isabellamaldonado.com
SUMMARY:PEO Arizona State Chapter\, Books n’ Lunch
DESCRIPTION:
URL:https://isabellamaldonado.com/event/peo-arizona-state-chapter-books-n-lunch/
ATTACH;FMTTYPE=:
END:VEVENT
BEGIN:VEVENT
DTSTART;TZID=UTC:20190820T113000
DTEND;TZID=UTC:20190820T133000
DTSTAMP:20260424T173725
CREATED:20200307T070230Z
LAST-MODIFIED:20200307T070230Z
UID:2540-1566300600-1566307800@isabellamaldonado.com
SUMMARY:Greer Library Friends
DESCRIPTION:Honored to be the guest speaker for the annual author’s luncheon! \nMore info
URL:https://isabellamaldonado.com/event/greer-library-friends/
ATTACH;FMTTYPE=:
END:VEVENT
BEGIN:VEVENT
DTSTART;TZID=UTC:20190709T080000
DTEND;TZID=UTC:20190713T170000
DTSTAMP:20260424T173725
CREATED:20200307T070505Z
LAST-MODIFIED:20200307T070505Z
UID:3502-1562659200-1563037200@isabellamaldonado.com
SUMMARY:ThrillerFest
DESCRIPTION:So excited to attend the premier conference for thriller writers! \nMore info
URL:https://isabellamaldonado.com/event/thrillerfest/
LOCATION:News + Events
ATTACH;FMTTYPE=:
END:VEVENT
BEGIN:VEVENT
DTSTART;TZID=UTC:20190410T120000
DTEND;TZID=UTC:20190410T133000
DTSTAMP:20260424T173725
CREATED:20200307T073536Z
LAST-MODIFIED:20200307T073536Z
UID:2549-1554897600-1554903000@isabellamaldonado.com
SUMMARY:Speaking at SAGES on Central
DESCRIPTION:Join me for a special speaking event for seniors at SAGES (Senior Adult Growth and Enrichment Society) in the heart of Phoenix. \nMore info
URL:https://isabellamaldonado.com/event/speaking-at-sages-on-central/
ATTACH;FMTTYPE=:
END:VEVENT
BEGIN:VEVENT
DTSTART;TZID=UTC:20190402T130000
DTEND;TZID=UTC:20190402T143000
DTSTAMP:20260424T173725
CREATED:20200307T073907Z
LAST-MODIFIED:20200307T073907Z
UID:2553-1554210000-1554215400@isabellamaldonado.com
SUMMARY:Special Appearance with J.A. Jance
DESCRIPTION:Please join me for a very special joint appearance with New York Times bestselling author J.A. Jance! Two authors who love a good laugh\, authentic Mexican food\, and cop stories with grit and heart…you won’t want to miss this one! Mostly Books will have books on hand for sale. \nMore info
URL:https://isabellamaldonado.com/event/special-appearance-with-j-a-jance/
ATTACH;FMTTYPE=:
END:VEVENT
BEGIN:VEVENT
DTSTART;TZID=UTC:20190330T190000
DTEND;TZID=UTC:20190330T200000
DTSTAMP:20260424T173725
CREATED:20200307T074238Z
LAST-MODIFIED:20200307T074238Z
UID:2557-1553972400-1553976000@isabellamaldonado.com
SUMMARY:Special Appearance with Ed Aymar
DESCRIPTION:Acclaimed Washington DC author Ed Aymar launches his crime thriller\, UNREPENTANT. After a short reading from Ed\, I’ll join him to discuss writing\, books\, and whatever else comes up. And yes\, there will be cupcakes! \nClick here for details on Facebook!
URL:https://isabellamaldonado.com/event/special-appearance-with-ed-aymar/
ATTACH;FMTTYPE=:
END:VEVENT
BEGIN:VEVENT
DTSTART;TZID=UTC:20190329T160000
DTEND;TZID=UTC:20190329T163000
DTSTAMP:20260424T173725
CREATED:20200307T074833Z
LAST-MODIFIED:20200307T074833Z
UID:2561-1553875200-1553877000@isabellamaldonado.com
SUMMARY:Podcast: Writers on the Beat
DESCRIPTION:Host and fellow veteran cop turned thriller author Gavin Reese and I chat about bringing authenticity and real world experience to fiction writing (especially where it pertains to cops\, crime\, and criminals). Join the conversation! \nClick here to listen!
URL:https://isabellamaldonado.com/event/podcast-writers-on-the-beat/
ATTACH;FMTTYPE=:
END:VEVENT
BEGIN:VEVENT
DTSTART;TZID=UTC:20190326T100000
DTEND;TZID=UTC:20190326T110000
DTSTAMP:20260424T173725
CREATED:20200307T075200Z
LAST-MODIFIED:20200307T075200Z
UID:2565-1553594400-1553598000@isabellamaldonado.com
SUMMARY:Sun City West
DESCRIPTION:Looking forward to seeing everyone for a lively\, interactive talk and book signing for the third book in Detective Cruz mystery/thriller series (set in Phoenix). Books will be available for purchase by Barnes & Noble.
URL:https://isabellamaldonado.com/event/sun-city-west/
ATTACH;FMTTYPE=:
END:VEVENT
BEGIN:VEVENT
DTSTART;TZID=UTC:20190319T080000
DTEND;TZID=UTC:20190531T170000
DTSTAMP:20260424T173725
CREATED:20200307T075449Z
LAST-MODIFIED:20200307T075449Z
UID:2570-1552982400-1559322000@isabellamaldonado.com
SUMMARY:Television appearance
DESCRIPTION:Thrilled to talk to José Cárdenas\, host of the acclaimed Horizonte program on PBS Arizona\, about the Veranda Cruz series. \nTime: Variable (click on “more info” link below) \nMore info
URL:https://isabellamaldonado.com/event/television-appearance/
ATTACH;FMTTYPE=:
END:VEVENT
BEGIN:VEVENT
DTSTART;TZID=UTC:20190308T190000
DTEND;TZID=UTC:20190308T200000
DTSTAMP:20260424T173725
CREATED:20200307T075952Z
LAST-MODIFIED:20200307T075952Z
UID:2579-1552071600-1552075200@isabellamaldonado.com
SUMMARY:Launch party for DEATH BLOW
DESCRIPTION:Please join me for the official launch party for DEATH BLOW\, book three in the Detective Cruz mystery/thriller series! As usual\, there will be cake\, giveaways\, a live interview\, fun interactive Q&A with prizes for the best answers from the audience\, and inside scoop galore! (And did I mention cake?) You can pre-order your copy using the link to the Poisoned Pen bookstore (it’s below the date and time). \nClick here to pre-order DEATH BLOW from The Poisoned Pen Bookstore
URL:https://isabellamaldonado.com/event/launch-party-for-death-blow/
ATTACH;FMTTYPE=:
END:VEVENT
BEGIN:VEVENT
DTSTART;TZID=UTC:20190302T093000
DTEND;TZID=UTC:20190303T173000
DTSTAMP:20260424T173725
CREATED:20200307T080505Z
LAST-MODIFIED:20200307T080505Z
UID:2583-1551519000-1551634200@isabellamaldonado.com
SUMMARY:Tucson Festival of Books
DESCRIPTION:Check out the annual Tucson Festival of Books! One of the largest literary conferences in the United States\, TFOB is a must for fans\, readers\, authors\, and anyone else who loves books. I will participate in the following five author panels and signings at the festival: \nEvent #1: Some Like It Hot\nLocation: Student Union Santa Rita\nDate/Time: Saturday\, 2:30 pm to 3:30 pm\nPanelists: Steven Cooper\, Isabella Maldonado\, Jon Talton\nModerator: Rosemary Simpson\nGenre: Mystery / Thrillers\nSigning area: Sales & Signing Area – UA BookStore Tent (on the Mall\, following the presentation)\nSteven Cooper\, Isabella Maldonado and Jon Talton have set their stories in Phoenix. No wonder they have been received warmly by readers of all ages! \nEvent #2: Recipe for Murder\nLocation: Integrated Learning Center Room 120\nDate/Time: Saturday\, 4:00 pm to 5:00 pm\nPanelists: Teresa Dovalpage\, Isabella Maldonado\, Martin Walker\nModerator: Christine Burke\nGenre: Mystery / Thrillers\nSigning area: Sales & Signing Area – Integrated Learning Center (following presentation)\nTeresa Dovalpage\, Isabella Maldonado and Martin Walker used food and recipes to provide a strong cultural connection to their characters and settings. Food became part of the plot itself. Bon appetite! \nEvent #3: Whodunnit? Quien lo Hizo?\nLocation: Student Union Santa Rita\nDate/Time: Sunday\, 11:30 am to 12:30 pm\nPanelists: Teresa Dovalpage\, Martin Limon\, Isabella Maldonado\nModerator: Lupita Murillo\nGenre: Mystery / Thrillers\nSigning area: Sales & Signing Area – UA BookStore Tent (on Mall) (following presentation)\nTeresa Dovalpage\, Martin Limon and Isabella Maldonado have introduced a Hispanic voice — and an important new audience — to the realm of Mysteries and Thrillers. \nEvent #4: Isabella Maldonado book signing\nLocation: Clues Unlimited\nDate/Time: Sunday\, 1:30 pm to 2:15 pm \nEvent #5: Isabella Maldonado and William Kent Krueger book signing\nLocation: Mostly Books\nDate/Time: Sunday\, 3:30 pm to 4:00 pm \nClick the “More info” link to the left for general information about the conference. Hope to see you there! \nMore info
URL:https://isabellamaldonado.com/event/tucson-festival-of-books/
ATTACH;FMTTYPE=:
END:VEVENT
BEGIN:VEVENT
DTSTART;TZID=UTC:20190204T080000
DTEND;TZID=UTC:20190204T170000
DTSTAMP:20260424T173725
CREATED:20200307T081039Z
LAST-MODIFIED:20200307T081039Z
UID:2587-1549267200-1549299600@isabellamaldonado.com
SUMMARY:Guest post on Lesa’s Book Critiques
DESCRIPTION:Be sure to read Lesa Holstine’s fabulous blog\, Lesa’s Book Critiques\, for my guest post and a special announcement about BLOOD’S ECHO and PHOENIX BURNING\, the first two books in the award-winning Det. Cruz mystery/thriller series!
URL:https://isabellamaldonado.com/event/guest-post-on-lesas-book-critiques/
ATTACH;FMTTYPE=:
END:VEVENT
BEGIN:VEVENT
DTSTART;TZID=UTC:20181229T080000
DTEND;TZID=UTC:20190101T170000
DTSTAMP:20260424T173725
CREATED:20200307T081255Z
LAST-MODIFIED:20200307T081255Z
UID:2591-1546070400-1546362000@isabellamaldonado.com
SUMMARY:Book Giveaway & Guest Post on Dru’s Book Musings
DESCRIPTION:Check out the popular Dru’s Book Musings blog for a special guest post: A DAY IN THE LIFE OF DET. VERANDA CRUZ. Of course\, the average day for a Phoenix Homicide detective is not an ordinary day at all… \nLeave a comment for a chance to win a free copy of PHOENIX BURNING\, book 2 in the Det. Cruz mystery/thriller series set in Phoenix. Giveaway ends December 31\, 2018. \nMore info
URL:https://isabellamaldonado.com/event/book-giveaway-guest-post-on-drus-book-musings/
ATTACH;FMTTYPE=:
END:VEVENT
BEGIN:VEVENT
DTSTART;TZID=UTC:20090315T133000
DTEND;TZID=UTC:20090315T150000
DTSTAMP:20260424T173725
CREATED:20200307T075711Z
LAST-MODIFIED:20200307T075711Z
UID:2575-1237123800-1237129200@isabellamaldonado.com
SUMMARY:Venture Out resort
DESCRIPTION:Please come by for a fun and interactive presentation! \nMore info
URL:https://isabellamaldonado.com/event/venture-out-resort/
ATTACH;FMTTYPE=:
END:VEVENT
END:VCALENDAR